BEGIN:VCALENDAR
VERSION:2.0
PRODID:-//ChamberMaster//Event Calendar 2.0//EN
METHOD:PUBLISH
X-PUBLISHED-TTL:P1H
REFRESH-INTERVAL:P1H
CALSCALE:GREGORIAN
BEGIN:VTIMEZONE
TZID:America/Chicago
BEGIN:DAYLIGHT
RRULE:FREQ=YEARLY;BYMONTH=3;BYDAY=2SU
DTSTART:20070101T000000
TZOFFSETFROM:-0600
TZOFFSETTO:-0500
TZNAME:Central Daylight Time
END:DAYLIGHT
BEGIN:STANDARD
RRULE:FREQ=YEARLY;BYMONTH=11;BYDAY=1SU
DTSTART:20070101T000000
TZOFFSETFROM:-0500
TZOFFSETTO:-0600
TZNAME:Central Standard Time
END:STANDARD
END:VTIMEZONE
BEGIN:VEVENT
DTSTART;TZID=America/Chicago:20260205T114500
DTEND;TZID=America/Chicago:20260205T130000
X-MICROSOFT-CDO-ALLDAYEVENT:FALSE
SUMMARY:November Monthly Luncheon
DESCRIPTION:We invite you to attend our February Monthly Luncheon. Oklahoma Tax Commission Executive Director\, Doug Linehan\, will be our guest speaker. Doug will be sharing how the OTC is streamlining tax compliance and improving transparency\, as well as the Commission's latest initiatives to make doing business in Oklahoma simpler and more efficient \nThe RSVP deadline is Tuesday\, February 3rd. Don't forget to drop a business card into the drawing for a chance to win a door prize! We look forward to seeing you there!
X-ALT-DESC;FMTTYPE=text/html:<!DOCTYPE html><html><head><title></title></head><body aria-disabled="false"><p><span style='font-family: "Times New Roman"\, Times\, serif\, -webkit-standard\; font-size: 14px\;'>We invite you to attend our February Monthly Luncheon. Oklahoma Tax Commission Executive Director\, Doug Linehan\, will be our guest speaker. Doug will be sharing&nbsp\;</span><span style="font-size: 14px\;"><span style="font-family: Times New Roman\,Times\,serif\,-webkit-standard\;">how the OTC is streamlining tax compliance and improving transparency\, as well as the Commission&rsquo\;s latest initiatives to make doing business in Oklahoma simpler and more efficient <br></span></span></p><p><span style='font-family: "Times New Roman"\, Times\, serif\, -webkit-standard\; font-size: 14px\;'>The RSVP deadline is Tuesday\, February 3rd. Don&#39\;t forget to drop a business card into the drawing for a chance to win a door prize! We look forward to seeing you there!</span></p></body></html>
LOCATION:903 W. Main Street Collinsville OK 74021
UID:e.2462.1377195
SEQUENCE:3
DTSTAMP:20260424T225417Z
URL:https://collinsvillechamberofcommerceok.growthzoneapp.com/community-events/Details/november-monthly-luncheon-1625953?sourceTypeId=Hub
END:VEVENT
END:VCALENDAR
